BEGIN:VCALENDAR
VERSION:2.0
PRODID:-//Dachverband Natur Bietigheim-Bissingen e.V. - ECPv6.15.20//NONSGML v1.0//EN
CALSCALE:GREGORIAN
METHOD:PUBLISH
X-ORIGINAL-URL:https://dachverband-natur.de
X-WR-CALDESC:Veranstaltungen für Dachverband Natur Bietigheim-Bissingen e.V.
REFRESH-INTERVAL;VALUE=DURATION:PT1H
X-Robots-Tag:noindex
X-PUBLISHED-TTL:PT1H
BEGIN:VTIMEZONE
TZID:Europe/Berlin
BEGIN:DAYLIGHT
TZOFFSETFROM:+0100
TZOFFSETTO:+0200
TZNAME:CEST
DTSTART:20250330T010000
END:DAYLIGHT
BEGIN:STANDARD
TZOFFSETFROM:+0200
TZOFFSETTO:+0100
TZNAME:CET
DTSTART:20251026T010000
END:STANDARD
BEGIN:DAYLIGHT
TZOFFSETFROM:+0100
TZOFFSETTO:+0200
TZNAME:CEST
DTSTART:20260329T010000
END:DAYLIGHT
BEGIN:STANDARD
TZOFFSETFROM:+0200
TZOFFSETTO:+0100
TZNAME:CET
DTSTART:20261025T010000
END:STANDARD
BEGIN:DAYLIGHT
TZOFFSETFROM:+0100
TZOFFSETTO:+0200
TZNAME:CEST
DTSTART:20270328T010000
END:DAYLIGHT
BEGIN:STANDARD
TZOFFSETFROM:+0200
TZOFFSETTO:+0100
TZNAME:CET
DTSTART:20271031T010000
END:STANDARD
END:VTIMEZONE
BEGIN:VEVENT
DTSTART;TZID=Europe/Berlin:20260616T190000
DTEND;TZID=Europe/Berlin:20260616T190000
DTSTAMP:20260420T005640
CREATED:20251006T192122Z
LAST-MODIFIED:20251006T192516Z
UID:3737-1781636400-1781636400@dachverband-natur.de
SUMMARY:Jahreshauptversammlung
DESCRIPTION:
URL:https://dachverband-natur.de/event/jahreshauptversammlung/
LOCATION:Siedlerheim Sand\, Friedrich-Ebert-Straße 66\, Bietigheim-Bissingen\, Baden-Württemberg
END:VEVENT
BEGIN:VEVENT
DTSTART;TZID=Europe/Berlin:20260616T200000
DTEND;TZID=Europe/Berlin:20260616T200000
DTSTAMP:20260420T005640
CREATED:20251006T192241Z
LAST-MODIFIED:20251006T192414Z
UID:3739-1781640000-1781640000@dachverband-natur.de
SUMMARY:Öffentlicher Vortrag
DESCRIPTION:
URL:https://dachverband-natur.de/event/oeffentlicher-vortrag/
LOCATION:Siedlerheim Sand\, Friedrich-Ebert-Straße 66\, Bietigheim-Bissingen\, Baden-Württemberg
END:VEVENT
BEGIN:VEVENT
DTSTART;TZID=Europe/Berlin:20260922T193000
DTEND;TZID=Europe/Berlin:20260922T193000
DTSTAMP:20260420T005640
CREATED:20251006T191652Z
LAST-MODIFIED:20251006T191652Z
UID:3733-1790105400-1790105400@dachverband-natur.de
SUMMARY:Ausschusssitzung
DESCRIPTION:
URL:https://dachverband-natur.de/event/ausschusssitzung-3/
LOCATION:Siedlerheim Sand\, Friedrich-Ebert-Straße 66\, Bietigheim-Bissingen\, Baden-Württemberg
END:VEVENT
END:VCALENDAR